BEGIN:VCALENDAR
VERSION:2.0
PRODID:-//PVDW - ECPv6.8.3//NONSGML v1.0//EN
CALSCALE:GREGORIAN
METHOD:PUBLISH
X-WR-CALNAME:PVDW
X-ORIGINAL-URL:http://petravdw-art.com
X-WR-CALDESC:Evenementen voor PVDW
REFRESH-INTERVAL;VALUE=DURATION:PT1H
X-Robots-Tag:noindex
X-PUBLISHED-TTL:PT1H
BEGIN:VTIMEZONE
TZID:UTC
BEGIN:STANDARD
TZOFFSETFROM:+0000
TZOFFSETTO:+0000
TZNAME:UTC
DTSTART:20230101T000000
END:STANDARD
END:VTIMEZONE
BEGIN:VEVENT
DTSTART;VALUE=DATE:20230705
DTEND;VALUE=DATE:20230727
DTSTAMP:20260423T174147
CREATED:20230701T204533Z
LAST-MODIFIED:20230827T162842Z
UID:113-1688515200-1690415999@petravdw-art.com
SUMMARY:Eindexamen expositie Groningen
DESCRIPTION:
URL:http://petravdw-art.com/event/eindexamen-expositie-groningen/
LOCATION:Pictura Groningen\, Sint Walburgstraat 1\, Groningen\, Groningen\, 9712 HX\, Nederland
ATTACH;FMTTYPE=image/jpeg:http://petravdw-art.com/wp-content/uploads/2023/07/WhatsApp-Image-2023-08-27-at-17.53.04.jpeg
END:VEVENT
END:VCALENDAR